BEGIN:VCALENDAR
VERSION:2.0
PRODID:-//Camping municipal les Rouches - ECPv6.15.12.2//NONSGML v1.0//EN
CALSCALE:GREGORIAN
METHOD:PUBLISH
X-ORIGINAL-URL:https://campinglesrouches.fr
X-WR-CALDESC:Évènements pour Camping municipal les Rouches
REFRESH-INTERVAL;VALUE=DURATION:PT1H
X-Robots-Tag:noindex
X-PUBLISHED-TTL:PT1H
BEGIN:VTIMEZONE
TZID:UTC
BEGIN:STANDARD
TZOFFSETFROM:+0000
TZOFFSETTO:+0000
TZNAME:UTC
DTSTART:20160101T000000
END:STANDARD
END:VTIMEZONE
BEGIN:VEVENT
DTSTART;TZID=UTC:20170706T180000
DTEND;TZID=UTC:20170706T220000
DTSTAMP:20260424T193335
CREATED:20170626T131527Z
LAST-MODIFIED:20170626T131527Z
UID:283-1499364000-1499378400@campinglesrouches.fr
SUMMARY:Canoë pique nique
DESCRIPTION:
URL:https://campinglesrouches.fr/agenda/canoe-pique-nique/
LOCATION:SALLERTAINE\, 49 rue de Verdun\, SALLERTAINE\, 85300\, France
CATEGORIES:Evenement
ORGANIZER;CN="Anthony Grignon":MAILTO:canoekayaksallertaine@gmail.com
END:VEVENT
END:VCALENDAR