BEGIN:VCALENDAR
VERSION:2.0
PRODID:-//Camping municipal les Rouches - ECPv6.15.12.2//NONSGML v1.0//EN
CALSCALE:GREGORIAN
METHOD:PUBLISH
X-ORIGINAL-URL:https://campinglesrouches.fr
X-WR-CALDESC:Évènements pour Camping municipal les Rouches
REFRESH-INTERVAL;VALUE=DURATION:PT1H
X-Robots-Tag:noindex
X-PUBLISHED-TTL:PT1H
BEGIN:VTIMEZONE
TZID:UTC
BEGIN:STANDARD
TZOFFSETFROM:+0000
TZOFFSETTO:+0000
TZNAME:UTC
DTSTART:20170101T000000
END:STANDARD
END:VTIMEZONE
BEGIN:VEVENT
DTSTART;VALUE=DATE:20180414
DTEND;VALUE=DATE:20180415
DTSTAMP:20260420T124535
CREATED:20180209T105047Z
LAST-MODIFIED:20180209T105047Z
UID:430-1523664000-1523750399@campinglesrouches.fr
SUMMARY:Sortie extérieure
DESCRIPTION:
URL:https://campinglesrouches.fr/agenda/sortie-exterieure-4/
LOCATION:Saint gilles croix de vie
CATEGORIES:pink ladies
ORGANIZER;CN="Anthony":MAILTO:canoekayaksallertaine@gmail.com
END:VEVENT
END:VCALENDAR