BEGIN:VCALENDAR
VERSION:2.0
PRODID:-//Camping municipal les Rouches - ECPv6.15.12.2//NONSGML v1.0//EN
CALSCALE:GREGORIAN
METHOD:PUBLISH
X-WR-CALNAME:Camping municipal les Rouches
X-ORIGINAL-URL:https://campinglesrouches.fr
X-WR-CALDESC:Évènements pour Camping municipal les Rouches
REFRESH-INTERVAL;VALUE=DURATION:PT1H
X-Robots-Tag:noindex
X-PUBLISHED-TTL:PT1H
BEGIN:VTIMEZONE
TZID:UTC
BEGIN:STANDARD
TZOFFSETFROM:+0000
TZOFFSETTO:+0000
TZNAME:UTC
DTSTART:20160101T000000
END:STANDARD
END:VTIMEZONE
BEGIN:VEVENT
DTSTART;VALUE=DATE:20171102
DTEND;VALUE=DATE:20171103
DTSTAMP:20260424T124018
CREATED:20171030T152558Z
LAST-MODIFIED:20171030T152632Z
UID:349-1509580800-1509667199@campinglesrouches.fr
SUMMARY:CANOE PIQUE NIQUE
DESCRIPTION:
URL:https://campinglesrouches.fr/agenda/canoe-pique-nique-2/
LOCATION:SALLERTAINE\, 49 rue de Verdun\, SALLERTAINE\, 85300\, France
CATEGORIES:Evenement
END:VEVENT
BEGIN:VEVENT
DTSTART;TZID=UTC:20171104T094500
DTEND;TZID=UTC:20171104T114500
DTSTAMP:20260424T124018
CREATED:20171030T154317Z
LAST-MODIFIED:20171030T154424Z
UID:351-1509788700-1509795900@campinglesrouches.fr
SUMMARY:Pink Ladies/ Sport Santé
DESCRIPTION:
URL:https://campinglesrouches.fr/agenda/pink-ladies-sport-sante/
LOCATION:SALLERTAINE\, 49 rue de Verdun\, SALLERTAINE\, 85300\, France
CATEGORIES:pink ladies,Sport santé
ORGANIZER;CN="Anthony":MAILTO:canoekayaksallertaine@gmail.com
END:VEVENT
BEGIN:VEVENT
DTSTART;TZID=UTC:20171111T094500
DTEND;TZID=UTC:20171111T234500
DTSTAMP:20260424T124018
CREATED:20171030T154521Z
LAST-MODIFIED:20171030T154521Z
UID:353-1510393500-1510443900@campinglesrouches.fr
SUMMARY:Pink Ladies/ Sport Santé
DESCRIPTION:
URL:https://campinglesrouches.fr/agenda/pink-ladies-sport-sante-2/
LOCATION:SALLERTAINE\, 49 rue de Verdun\, SALLERTAINE\, 85300\, France
CATEGORIES:pink ladies,Sport santé
ORGANIZER;CN="Anthony":MAILTO:canoekayaksallertaine@gmail.com
END:VEVENT
BEGIN:VEVENT
DTSTART;TZID=UTC:20171116T170000
DTEND;TZID=UTC:20171116T183000
DTSTAMP:20260424T124018
CREATED:20170906T085716Z
LAST-MODIFIED:20170906T085716Z
UID:310-1510851600-1510857000@campinglesrouches.fr
SUMMARY:École de sport
DESCRIPTION:
URL:https://campinglesrouches.fr/agenda/ecole-de-sport-36/
LOCATION:SALLERTAINE\, 49 rue de Verdun\, SALLERTAINE\, 85300\, France
CATEGORIES:séance jeune
ORGANIZER;CN="Anthony Grignon":MAILTO:canoekayaksallertaine@gmail.com
END:VEVENT
BEGIN:VEVENT
DTSTART;TZID=UTC:20171118T133000
DTEND;TZID=UTC:20171118T170000
DTSTAMP:20260424T124018
CREATED:20171030T131326Z
LAST-MODIFIED:20171030T131326Z
UID:337-1511011800-1511024400@campinglesrouches.fr
SUMMARY:Challenge jeune départemental
DESCRIPTION:
URL:https://campinglesrouches.fr/agenda/challenge-jeune-departemental/
LOCATION:Rochervière
CATEGORIES:compétition
ORGANIZER;CN="Anthony Grignon":MAILTO:canoekayaksallertaine@gmail.com
END:VEVENT
BEGIN:VEVENT
DTSTART;TZID=UTC:20171123T170000
DTEND;TZID=UTC:20171123T183000
DTSTAMP:20260424T124018
CREATED:20170906T090230Z
LAST-MODIFIED:20170906T090230Z
UID:312-1511456400-1511461800@campinglesrouches.fr
SUMMARY:École de sport
DESCRIPTION:
URL:https://campinglesrouches.fr/agenda/ecole-de-sport-37/
LOCATION:SALLERTAINE\, 49 rue de Verdun\, SALLERTAINE\, 85300\, France
CATEGORIES:séance jeune
ORGANIZER;CN="Anthony":MAILTO:canoekayaksallertaine@gmail.com
END:VEVENT
BEGIN:VEVENT
DTSTART;TZID=UTC:20171125T094500
DTEND;TZID=UTC:20171125T094500
DTSTAMP:20260424T124018
CREATED:20171030T154628Z
LAST-MODIFIED:20171030T154628Z
UID:355-1511603100-1511603100@campinglesrouches.fr
SUMMARY:Pink Ladies/ Sport Santé
DESCRIPTION:
URL:https://campinglesrouches.fr/agenda/pink-ladies-sport-sante-3/
LOCATION:SALLERTAINE\, 49 rue de Verdun\, SALLERTAINE\, 85300\, France
CATEGORIES:pink ladies,Sport santé
ORGANIZER;CN="Anthony":MAILTO:canoekayaksallertaine@gmail.com
END:VEVENT
END:VCALENDAR