BEGIN:VCALENDAR
VERSION:2.0
PRODID:-//Camping municipal les Rouches - ECPv6.15.12.2//NONSGML v1.0//EN
CALSCALE:GREGORIAN
METHOD:PUBLISH
X-WR-CALNAME:Camping municipal les Rouches
X-ORIGINAL-URL:https://campinglesrouches.fr
X-WR-CALDESC:Évènements pour Camping municipal les Rouches
REFRESH-INTERVAL;VALUE=DURATION:PT1H
X-Robots-Tag:noindex
X-PUBLISHED-TTL:PT1H
BEGIN:VTIMEZONE
TZID:UTC
BEGIN:STANDARD
TZOFFSETFROM:+0000
TZOFFSETTO:+0000
TZNAME:UTC
DTSTART:20160101T000000
END:STANDARD
END:VTIMEZONE
BEGIN:VEVENT
DTSTART;VALUE=DATE:20171202
DTEND;VALUE=DATE:20171203
DTSTAMP:20260424T111139
CREATED:20171124T135250Z
LAST-MODIFIED:20171124T135250Z
UID:368-1512172800-1512259199@campinglesrouches.fr
SUMMARY:Challenge jeune départemental
DESCRIPTION:
URL:https://campinglesrouches.fr/agenda/challenge-jeune-departemental-2/
LOCATION:Damvix\, Port de Damvix\, Damvix\, 85420\, France
CATEGORIES:compétition
ORGANIZER;CN="Anthony Grignon":MAILTO:canoekayaksallertaine@gmail.com
END:VEVENT
BEGIN:VEVENT
DTSTART;TZID=UTC:20171207T164000
DTEND;TZID=UTC:20171207T180000
DTSTAMP:20260424T111139
CREATED:20171107T095114Z
LAST-MODIFIED:20171107T095114Z
UID:357-1512664800-1512669600@campinglesrouches.fr
SUMMARY:École de sport
DESCRIPTION:
URL:https://campinglesrouches.fr/agenda/ecole-de-sport-38/
LOCATION:SALLERTAINE\, 49 rue de Verdun\, SALLERTAINE\, 85300\, France
CATEGORIES:séance jeune
ORGANIZER;CN="Anthony":MAILTO:canoekayaksallertaine@gmail.com
END:VEVENT
BEGIN:VEVENT
DTSTART;TZID=UTC:20171209T093000
DTEND;TZID=UTC:20171209T120000
DTSTAMP:20260424T111139
CREATED:20171107T095834Z
LAST-MODIFIED:20171107T095834Z
UID:365-1512811800-1512820800@campinglesrouches.fr
SUMMARY:Pink ladies+Sport Santé+École de sport
DESCRIPTION:
URL:https://campinglesrouches.fr/agenda/pink-ladiessport-santeecole-de-sport/
LOCATION:SALLERTAINE\, 49 rue de Verdun\, SALLERTAINE\, 85300\, France
CATEGORIES:pink ladies,séance ados / adultes,séance jeune,Sport santé
ORGANIZER;CN="Anthony Grignon":MAILTO:canoekayaksallertaine@gmail.com
END:VEVENT
BEGIN:VEVENT
DTSTART;TZID=UTC:20171214T163000
DTEND;TZID=UTC:20171214T180000
DTSTAMP:20260424T111139
CREATED:20171107T095313Z
LAST-MODIFIED:20171107T095313Z
UID:359-1513269000-1513274400@campinglesrouches.fr
SUMMARY:École de sport
DESCRIPTION:
URL:https://campinglesrouches.fr/agenda/ecole-de-sport-39/
LOCATION:SALLERTAINE\, 49 rue de Verdun\, SALLERTAINE\, 85300\, France
CATEGORIES:séance jeune
ORGANIZER;CN="Anthony":MAILTO:canoekayaksallertaine@gmail.com
END:VEVENT
BEGIN:VEVENT
DTSTART;TZID=UTC:20171216T100000
DTEND;TZID=UTC:20171216T120000
DTSTAMP:20260424T111139
CREATED:20171107T095401Z
LAST-MODIFIED:20171107T095401Z
UID:361-1513418400-1513425600@campinglesrouches.fr
SUMMARY:Canoël
DESCRIPTION:
URL:https://campinglesrouches.fr/agenda/canoel-2/
LOCATION:SALLERTAINE\, 49 rue de Verdun\, SALLERTAINE\, 85300\, France
CATEGORIES:Evenement
ORGANIZER;CN="Anthony Grignon":MAILTO:canoekayaksallertaine@gmail.com
END:VEVENT
BEGIN:VEVENT
DTSTART;TZID=UTC:20171221T163000
DTEND;TZID=UTC:20171221T180000
DTSTAMP:20260424T111139
CREATED:20171107T095554Z
LAST-MODIFIED:20171107T095554Z
UID:363-1513873800-1513879200@campinglesrouches.fr
SUMMARY:École de sport
DESCRIPTION:
URL:https://campinglesrouches.fr/agenda/ecole-de-sport-40/
LOCATION:SALLERTAINE\, 49 rue de Verdun\, SALLERTAINE\, 85300\, France
CATEGORIES:séance jeune
ORGANIZER;CN="Anthony":MAILTO:canoekayaksallertaine@gmail.com
END:VEVENT
END:VCALENDAR