BEGIN:VCALENDAR
VERSION:2.0
PRODID:-//Camping municipal les Rouches - ECPv6.15.12.2//NONSGML v1.0//EN
CALSCALE:GREGORIAN
METHOD:PUBLISH
X-ORIGINAL-URL:https://campinglesrouches.fr
X-WR-CALDESC:Évènements pour Camping municipal les Rouches
REFRESH-INTERVAL;VALUE=DURATION:PT1H
X-Robots-Tag:noindex
X-PUBLISHED-TTL:PT1H
BEGIN:VTIMEZONE
TZID:UTC
BEGIN:STANDARD
TZOFFSETFROM:+0000
TZOFFSETTO:+0000
TZNAME:UTC
DTSTART:20170101T000000
END:STANDARD
END:VTIMEZONE
BEGIN:VEVENT
DTSTART;TZID=UTC:20180303T093000
DTEND;TZID=UTC:20180303T120000
DTSTAMP:20260420T124506
CREATED:20180209T125906Z
LAST-MODIFIED:20180209T125906Z
UID:439-1520069400-1520078400@campinglesrouches.fr
SUMMARY:Séance Pink ladies
DESCRIPTION:
URL:https://campinglesrouches.fr/agenda/seance-pink-ladies/
LOCATION:SALLERTAINE\, 49 rue de Verdun\, SALLERTAINE\, 85300\, France
ORGANIZER;CN="Anthony":MAILTO:canoekayaksallertaine@gmail.com
END:VEVENT
BEGIN:VEVENT
DTSTART;VALUE=DATE:20180305
DTEND;VALUE=DATE:20180310
DTSTAMP:20260420T124506
CREATED:20180118T132517Z
LAST-MODIFIED:20180118T132517Z
UID:408-1520208000-1520639999@campinglesrouches.fr
SUMMARY:Stage départemental eaux vives
DESCRIPTION:
URL:https://campinglesrouches.fr/agenda/stage-departemental-eaux-vives/
LOCATION:Tournon Saint Martin
CATEGORIES:Evenement
END:VEVENT
BEGIN:VEVENT
DTSTART;VALUE=DATE:20180310
DTEND;VALUE=DATE:20180311
DTSTAMP:20260420T124506
CREATED:20180209T132313Z
LAST-MODIFIED:20180209T132313Z
UID:442-1520640000-1520726399@campinglesrouches.fr
SUMMARY:Séance Pink Ladies
DESCRIPTION:
URL:https://campinglesrouches.fr/agenda/seance-pink-ladies-2/
LOCATION:SALLERTAINE\, 49 rue de Verdun\, SALLERTAINE\, 85300\, France
ORGANIZER;CN="Anthony":MAILTO:canoekayaksallertaine@gmail.com
END:VEVENT
BEGIN:VEVENT
DTSTART;TZID=UTC:20180313T170000
DTEND;TZID=UTC:20180313T183000
DTSTAMP:20260420T124506
CREATED:20180109T130526Z
LAST-MODIFIED:20180109T130526Z
UID:392-1520960400-1520965800@campinglesrouches.fr
SUMMARY:École de sport
DESCRIPTION:
URL:https://campinglesrouches.fr/agenda/ecole-de-sport-45/
LOCATION:SALLERTAINE\, 49 rue de Verdun\, SALLERTAINE\, 85300\, France
ORGANIZER;CN="Anthony Grignon":MAILTO:canoekayaksallertaine@gmail.com
END:VEVENT
BEGIN:VEVENT
DTSTART;TZID=UTC:20180316T140000
DTEND;TZID=UTC:20180316T160000
DTSTAMP:20260420T124506
CREATED:20180209T133137Z
LAST-MODIFIED:20180209T133137Z
UID:444-1521208800-1521216000@campinglesrouches.fr
SUMMARY:Séance pink ladies
DESCRIPTION:
URL:https://campinglesrouches.fr/agenda/seance-pink-ladies-3/
ORGANIZER;CN="Anthony":MAILTO:canoekayaksallertaine@gmail.com
END:VEVENT
BEGIN:VEVENT
DTSTART;VALUE=DATE:20180317
DTEND;VALUE=DATE:20180318
DTSTAMP:20260420T124506
CREATED:20171124T135429Z
LAST-MODIFIED:20171124T135429Z
UID:372-1521244800-1521331199@campinglesrouches.fr
SUMMARY:Challenge jeune départemental
DESCRIPTION:
URL:https://campinglesrouches.fr/agenda/challenge-jeune-departemental-4/
LOCATION:Fontenay le comte
ORGANIZER;CN="Anthony":MAILTO:canoekayaksallertaine@gmail.com
END:VEVENT
BEGIN:VEVENT
DTSTART;TZID=UTC:20180320T170000
DTEND;TZID=UTC:20180320T183000
DTSTAMP:20260420T124506
CREATED:20180109T130658Z
LAST-MODIFIED:20180109T130658Z
UID:394-1521565200-1521570600@campinglesrouches.fr
SUMMARY:École de sport
DESCRIPTION:
URL:https://campinglesrouches.fr/agenda/ecole-de-sport-46/
LOCATION:SALLERTAINE\, 49 rue de Verdun\, SALLERTAINE\, 85300\, France
CATEGORIES:séance jeune
ORGANIZER;CN="Anthony":MAILTO:canoekayaksallertaine@gmail.com
END:VEVENT
BEGIN:VEVENT
DTSTART;VALUE=DATE:20180324
DTEND;VALUE=DATE:20180325
DTSTAMP:20260420T124506
CREATED:20180209T104805Z
LAST-MODIFIED:20180209T104805Z
UID:427-1521849600-1521935999@campinglesrouches.fr
SUMMARY:Sortie extérieure
DESCRIPTION:
URL:https://campinglesrouches.fr/agenda/sortie-exterieure-3/
LOCATION:La roche sur yon
CATEGORIES:pink ladies
ORGANIZER;CN="Anthony":MAILTO:canoekayaksallertaine@gmail.com
END:VEVENT
BEGIN:VEVENT
DTSTART;VALUE=DATE:20180331
DTEND;VALUE=DATE:20180401
DTSTAMP:20260420T124506
CREATED:20180109T130922Z
LAST-MODIFIED:20180109T130922Z
UID:398-1522454400-1522540799@campinglesrouches.fr
SUMMARY:Sortie extérieure
DESCRIPTION:
URL:https://campinglesrouches.fr/agenda/sortie-exterieure-2/
ORGANIZER;CN="Anthony":MAILTO:canoekayaksallertaine@gmail.com
END:VEVENT
END:VCALENDAR